Back to Multiple platform build/check report for BioC 3.14
[A]BCDEFGHIJKLMNOPQRSTUVWXYZ

This page was generated on 2022-01-19 13:06:12 -0500 (Wed, 19 Jan 2022).

HostnameOSArch (*)R versionInstalled pkgs
nebbiolo2Linux (Ubuntu 20.04.4 LTS)x86_644.1.2 (2021-11-01) -- "Bird Hippie" 4328
tokay2Windows Server 2012 R2 Standardx644.1.2 (2021-11-01) -- "Bird Hippie" 4077
machv2macOS 10.14.6 Mojavex86_644.1.2 (2021-11-01) -- "Bird Hippie" 4138
Click on any hostname to see more info about the system (e.g. compilers)      (*) as reported by 'uname -p', except on Windows and Mac OS X

INSTALL results for arrayQuality on tokay2


To the developers/maintainers of the arrayQuality package:
- Please allow up to 24 hours (and sometimes 48 hours) for your latest push to git@git.bioconductor.org:packages/arrayQuality.git to
reflect on this report. See How and When does the builder pull? When will my changes propagate? here for more information.
- Make sure to use the following settings in order to reproduce any error or warning you see on this page.

raw results

Package 81/2083HostnameOS / ArchINSTALLBUILDCHECKBUILD BIN
arrayQuality 1.72.0  (landing page)
Agnes Paquet
Snapshot Date: 2022-01-18 01:55:07 -0500 (Tue, 18 Jan 2022)
git_url: https://git.bioconductor.org/packages/arrayQuality
git_branch: RELEASE_3_14
git_last_commit: 38af9ec
git_last_commit_date: 2021-10-26 11:46:46 -0500 (Tue, 26 Oct 2021)
nebbiolo2Linux (Ubuntu 20.04.4 LTS) / x86_64  OK    OK    WARNINGS  UNNEEDED, same version is already published
tokay2Windows Server 2012 R2 Standard / x64  OK    OK    WARNINGS    OK  UNNEEDED, same version is already published
machv2macOS 10.14.6 Mojave / x86_64  OK    OK    WARNINGS    OK  UNNEEDED, same version is already published

Summary

Package: arrayQuality
Version: 1.72.0
Command: C:\cygwin\bin\curl.exe -O http://155.52.207.166/BBS/3.14/bioc/src/contrib/arrayQuality_1.72.0.tar.gz && rm -rf arrayQuality.buildbin-libdir && mkdir arrayQuality.buildbin-libdir && C:\Users\biocbuild\bbs-3.14-bioc\R\bin\R.exe CMD INSTALL --merge-multiarch --build --library=arrayQuality.buildbin-libdir arrayQuality_1.72.0.tar.gz && C:\Users\biocbuild\bbs-3.14-bioc\R\bin\R.exe CMD INSTALL arrayQuality_1.72.0.zip && rm arrayQuality_1.72.0.tar.gz arrayQuality_1.72.0.zip
StartedAt: 2022-01-18 04:11:49 -0500 (Tue, 18 Jan 2022)
EndedAt: 2022-01-18 04:15:40 -0500 (Tue, 18 Jan 2022)
EllapsedTime: 231.0 seconds
RetCode: 0
Status:   OK  

Command output

##############################################################################
##############################################################################
###
### Running command:
###
###   C:\cygwin\bin\curl.exe -O http://155.52.207.166/BBS/3.14/bioc/src/contrib/arrayQuality_1.72.0.tar.gz && rm -rf arrayQuality.buildbin-libdir && mkdir arrayQuality.buildbin-libdir && C:\Users\biocbuild\bbs-3.14-bioc\R\bin\R.exe CMD INSTALL --merge-multiarch --build --library=arrayQuality.buildbin-libdir arrayQuality_1.72.0.tar.gz && C:\Users\biocbuild\bbs-3.14-bioc\R\bin\R.exe CMD INSTALL arrayQuality_1.72.0.zip && rm arrayQuality_1.72.0.tar.gz arrayQuality_1.72.0.zip
###
##############################################################################
##############################################################################


  % Total    % Received % Xferd  Average Speed   Time    Time     Time  Current
                                 Dload  Upload   Total   Spent    Left  Speed

  0     0    0     0    0     0      0      0 --:--:-- --:--:-- --:--:--     0
 66 12.9M   66 8832k    0     0  17.2M      0 --:--:-- --:--:-- --:--:-- 17.2M
100 12.9M  100 12.9M    0     0  22.3M      0 --:--:-- --:--:-- --:--:-- 22.3M

install for i386

* installing *source* package 'arrayQuality' ...
** using staged installation
** R
** data
** inst
** byte-compile and prepare package for lazy loading
** help
*** installing help indices
  converting help for package 'arrayQuality'
    finding HTML links ... done
    MmDEGenes                               html  
    PRv9mers                                html  
    PRvQCHyb                                html  
    agQuality                               html  
    arrayQuality-internal                   html  
    globalQuality                           html  
    gpQuality                               html  
    gprDB                                   html  
    heeboQuality                            html  
    heeboQualityPlots                       html  
    maQualityPlots                          html  
    meeboQuality                            html  
    meeboQualityPlots                       html  
    prdata                                  html  
    qcScore                                 html  
    qualBoxplot                             html  
    qualityScore                            html  
    readAgilent                             html  
    readGPR                                 html  
    readSpikeTypes                          html  
    readSpot                                html  
    readcontrolCode                         html  
    scaleRefTable                           html  
    slideQuality                            html  
    spotQuality                             html  
** building package indices
** installing vignettes
** testing if installed package can be loaded from temporary location
** testing if installed package can be loaded from final location
** testing if installed package keeps a record of temporary installation path

install for x64

* installing *source* package 'arrayQuality' ...
** testing if installed package can be loaded
* MD5 sums
packaged installation of 'arrayQuality' as arrayQuality_1.72.0.zip
* DONE (arrayQuality)
* installing to library 'C:/Users/biocbuild/bbs-3.14-bioc/R/library'
package 'arrayQuality' successfully unpacked and MD5 sums checked