Index of /checkResults/release/bioc-LATEST/arrayQuality/raw-results/nebbiolo2

[ICO]NameLast modifiedSizeDescription

[DIR]Parent Directory  -  
[TXT]buildsrc-out.txt31-Jan-2023 01:05 817  
[   ]buildsrc-summary.dcf31-Jan-2023 01:05 431  
[TXT]checksrc-out.txt31-Jan-2023 01:05 11K 
[   ]checksrc-summary.dcf31-Jan-2023 01:05 434  
[TXT]install-out.txt31-Jan-2023 01:05 970  
[   ]install-summary.dcf31-Jan-2023 01:05 268