![]() | Name | Last modified | Size | Description |
---|---|---|---|---|
![]() | Parent Directory | - | ||
![]() | install-summary.dcf | 28-Mar-2023 00:05 | 279 | |
![]() | buildsrc-summary.dcf | 28-Mar-2023 00:05 | 441 | |
![]() | checksrc-summary.dcf | 28-Mar-2023 00:05 | 469 | |
![]() | buildbin-summary.dcf | 28-Mar-2023 00:05 | 560 | |
![]() | buildsrc-out.txt | 28-Mar-2023 00:05 | 827 | |
![]() | install-out.txt | 28-Mar-2023 00:05 | 1.0K | |
![]() | buildbin-out.txt | 28-Mar-2023 00:05 | 1.2K | |
![]() | checksrc-out.txt | 28-Mar-2023 00:05 | 11K | |