Index of /checkResults/release/bioc-LATEST/arrayQuality/raw-results/lconway

[ICO]NameLast modifiedSizeDescription

[DIR]Parent Directory  -  
[TXT]buildbin-out.txt31-Jan-2023 01:07 1.2K 
[   ]buildbin-summary.dcf31-Jan-2023 01:07 560  
[TXT]buildsrc-out.txt31-Jan-2023 01:07 827  
[   ]buildsrc-summary.dcf31-Jan-2023 01:07 441  
[TXT]checksrc-out.txt31-Jan-2023 01:07 11K 
[   ]checksrc-summary.dcf31-Jan-2023 01:07 469  
[TXT]install-out.txt31-Jan-2023 01:07 1.0K 
[   ]install-summary.dcf31-Jan-2023 01:07 279