Index of /checkResults/release/bioc-LATEST/arrayQuality/raw-results/kjohnson

[ICO]NameLast modifiedSizeDescription

[DIR]Parent Directory  -  
[TXT]buildbin-out.txt08-Jul-2022 00:10 1.2K 
[   ]buildbin-summary.dcf08-Jul-2022 00:10 560  
[TXT]buildsrc-out.txt12-Jul-2022 00:06 827  
[   ]buildsrc-summary.dcf12-Jul-2022 00:06 442  
[TXT]install-out.txt12-Jul-2022 00:06 1.0K 
[   ]install-summary.dcf12-Jul-2022 00:06 278