Index of /checkResults/release/bioc-LATEST/appreci8R/raw-results/merida1

[ICO]NameLast modifiedSizeDescription

[DIR]Parent Directory  -  
[TXT]buildbin-out.txt17-Jul-2024 06:40 3.2K 
[   ]buildbin-summary.dcf17-Jul-2024 06:40 543  
[TXT]buildsrc-out.txt17-Jul-2024 06:40 896  
[   ]buildsrc-summary.dcf17-Jul-2024 06:40 433  
[TXT]checksrc-out.txt17-Jul-2024 06:40 4.6K 
[   ]checksrc-summary.dcf17-Jul-2024 06:40 452  
[TXT]install-out.txt17-Jul-2024 06:40 3.0K 
[   ]install-summary.dcf17-Jul-2024 06:40 274