Index of /checkResults/release/bioc-LATEST/appreci8R/raw-results/lconway

[ICO]NameLast modifiedSizeDescription

[DIR]Parent Directory  -  
[TXT]buildbin-out.txt29-May-2024 00:35 3.2K 
[   ]buildbin-summary.dcf29-May-2024 00:35 543  
[TXT]buildsrc-out.txt29-May-2024 00:35 896  
[   ]buildsrc-summary.dcf29-May-2024 00:35 433  
[TXT]checksrc-out.txt29-May-2024 00:35 4.6K 
[   ]checksrc-summary.dcf29-May-2024 00:35 452  
[TXT]install-out.txt29-May-2024 00:35 3.0K 
[   ]install-summary.dcf29-May-2024 00:35 274