Index of /checkResults/release/bioc-LATEST/apComplex/raw-results

[ICO]NameLast modifiedSizeDescription

[DIR]Parent Directory  -  
[   ]info.dcf14-May-2022 01:47 286  
[DIR]merida1/14-May-2022 01:47 -  
[DIR]nebbiolo1/14-May-2022 01:44 -  
[DIR]palomino3/14-May-2022 01:46 -  
[DIR]riesling1/19-Mar-2022 00:06 -