Back to Multiple platform build/check report for BioC 3.14
[A]BCDEFGHIJKLMNOPQRSTUVWXYZ

This page was generated on 2021-11-29 15:05:13 -0500 (Mon, 29 Nov 2021).

BUILD BIN results for annotatr on tokay2

To the developers/maintainers of the annotatr package:
- Please allow up to 24 hours (and sometimes 48 hours) for your latest push to git@git.bioconductor.org:packages/annotatr.git to
reflect on this report. See How and When does the builder pull? When will my changes propagate? here for more information.
- Make sure to use the following settings in order to reproduce any error or warning you see on this page.

raw results

Package 66/2083HostnameOS / ArchINSTALLBUILDCHECKBUILD BIN
annotatr 1.20.0  (landing page)
Raymond G. Cavalcante
Snapshot Date: 2021-11-28 04:15:06 -0500 (Sun, 28 Nov 2021)
git_url: https://git.bioconductor.org/packages/annotatr
git_branch: RELEASE_3_14
git_last_commit: aa03096
git_last_commit_date: 2021-10-26 12:30:59 -0500 (Tue, 26 Oct 2021)
nebbiolo2Linux (Ubuntu 20.04.3 LTS) / x86_64  OK    OK    OK  UNNEEDED, same version is already published
tokay2Windows Server 2012 R2 Standard / x64  OK    OK    OK    OK  UNNEEDED, same version is already published
machv2macOS 10.14.6 Mojave / x86_64  OK    OK    OK    OK  UNNEEDED, same version is already published

Summary

Package: annotatr
Version: 1.20.0
Command: rm -rf annotatr.buildbin-libdir && mkdir annotatr.buildbin-libdir && C:\Users\biocbuild\bbs-3.14-bioc\R\bin\R.exe CMD INSTALL --merge-multiarch --build --library=annotatr.buildbin-libdir annotatr_1.20.0.tar.gz
StartedAt: 2021-11-29 07:47:35 -0500 (Mon, 29 Nov 2021)
EndedAt: 2021-11-29 07:48:59 -0500 (Mon, 29 Nov 2021)
EllapsedTime: 83.7 seconds
RetCode: 0
Status:   OK  
PackageFile: annotatr_1.20.0.zip
PackageFileSize: 2.234 MiB

Command output

##############################################################################
##############################################################################
###
### Running command:
###
###   rm -rf annotatr.buildbin-libdir && mkdir annotatr.buildbin-libdir && C:\Users\biocbuild\bbs-3.14-bioc\R\bin\R.exe CMD INSTALL --merge-multiarch --build --library=annotatr.buildbin-libdir annotatr_1.20.0.tar.gz
###
##############################################################################
##############################################################################



install for i386

* installing *source* package 'annotatr' ...
** using staged installation
** R
** data
*** moving datasets to lazyload DB
** inst
** byte-compile and prepare package for lazy loading
** help
*** installing help indices
  converting help for package 'annotatr'
    finding HTML links ... done
    annotate_regions                        html  
    annotations                             html  
    annotatr                                html  
    annotatr_cache                          html  
    build_ah_annots                         html  
    build_annotations                       html  
    build_cpg_annots                        html  
    build_enhancer_annots                   html  
    build_gene_annots                       html  
    build_hmm_annots                        html  
    build_lncrna_annots                     html  
    builtin_annotations                     html  
    builtin_genomes                         html  
    check_annotations                       html  
    expand_annotations                      html  
    get_cellline_from_code                  html  
    get_cellline_from_shortcut              html  
    get_orgdb_name                          html  
    get_txdb_name                           html  
    plot_annotation                         html  
    plot_categorical                        html  
    plot_coannotations                      html  
    plot_numerical                          html  
    plot_numerical_coannotations            html  
    randomize_regions                       html  
    read_annotations                        html  
    read_regions                            html  
    reformat_hmm_codes                      html  
    subset_order_tbl                        html  
    summarize_annotations                   html  
    summarize_categorical                   html  
    summarize_numerical                     html  
    tidy_annotations                        html  
** building package indices
** installing vignettes
** testing if installed package can be loaded from temporary location
** testing if installed package can be loaded from final location
** testing if installed package keeps a record of temporary installation path

install for x64

* installing *source* package 'annotatr' ...
** testing if installed package can be loaded
* MD5 sums
packaged installation of 'annotatr' as annotatr_1.20.0.zip
* DONE (annotatr)