Name | Last modified | Size | Description | |
---|---|---|---|---|
Parent Directory | - | |||
checksrc-out.txt | 12-Jun-2024 03:41 | 9.6K | ||
buildbin-out.txt | 12-Jun-2024 03:41 | 2.4K | ||
install-out.txt | 12-Jun-2024 03:41 | 2.2K | ||
buildsrc-out.txt | 12-Jun-2024 03:41 | 812 | ||
buildbin-summary.dcf | 12-Jun-2024 03:41 | 524 | ||
checksrc-summary.dcf | 12-Jun-2024 03:41 | 446 | ||
buildsrc-summary.dcf | 12-Jun-2024 03:41 | 424 | ||
install-summary.dcf | 12-Jun-2024 03:41 | 267 | ||