Name | Last modified | Size | Description | |
---|---|---|---|---|
Parent Directory | - | |||
buildbin-summary.dcf | 27-Jul-2024 06:41 | 524 | ||
buildbin-out.txt | 27-Jul-2024 06:41 | 2.4K | ||
checksrc-summary.dcf | 27-Jul-2024 06:41 | 446 | ||
checksrc-out.txt | 27-Jul-2024 06:41 | 9.6K | ||
buildsrc-out.txt | 27-Jul-2024 06:41 | 812 | ||
buildsrc-summary.dcf | 27-Jul-2024 06:41 | 424 | ||
install-summary.dcf | 27-Jul-2024 06:41 | 267 | ||
install-out.txt | 27-Jul-2024 06:41 | 2.2K | ||