Index of /checkResults/release/bioc-LATEST/annaffy/raw-results/riesling1

[ICO]NameLast modifiedSizeDescription

[DIR]Parent Directory  -  
[TXT]buildbin-out.txt19-Mar-2022 00:06 3.8K 
[   ]buildbin-summary.dcf19-Mar-2022 00:06 516  
[TXT]buildsrc-out.txt19-Mar-2022 00:06 899  
[   ]buildsrc-summary.dcf19-Mar-2022 00:06 452  
[TXT]checksrc-out.txt19-Mar-2022 00:06 7.0K 
[   ]checksrc-summary.dcf19-Mar-2022 00:06 453  
[TXT]install-out.txt19-Mar-2022 00:06 3.8K 
[   ]install-summary.dcf19-Mar-2022 00:06 268