Index of /checkResults/release/bioc-LATEST/annaffy/raw-results/palomino4

[ICO]NameLast modifiedSizeDescription

[DIR]Parent Directory  -  
[TXT]buildbin-out.txt31-Jan-2023 01:06 1.1K 
[   ]buildbin-summary.dcf31-Jan-2023 01:06 513  
[TXT]buildsrc-out.txt31-Jan-2023 01:06 899  
[   ]buildsrc-summary.dcf31-Jan-2023 01:06 452  
[TXT]checksrc-out.txt31-Jan-2023 01:06 6.8K 
[   ]checksrc-summary.dcf31-Jan-2023 01:06 453  
[TXT]install-out.txt31-Jan-2023 01:06 962  
[   ]install-summary.dcf31-Jan-2023 01:06 268