Index of /checkResults/release/bioc-LATEST/annaffy/raw-results/palomino3

[ICO]NameLast modifiedSizeDescription

[DIR]Parent Directory  -  
[TXT]buildbin-out.txt25-Jun-2022 01:05 1.1K 
[   ]buildbin-summary.dcf25-Jun-2022 01:05 515  
[TXT]buildsrc-out.txt25-Jun-2022 01:05 899  
[   ]buildsrc-summary.dcf25-Jun-2022 01:05 452  
[TXT]checksrc-out.txt25-Jun-2022 01:05 6.8K 
[   ]checksrc-summary.dcf25-Jun-2022 01:05 453  
[TXT]install-out.txt25-Jun-2022 01:05 962  
[   ]install-summary.dcf25-Jun-2022 01:05 268