Index of /checkResults/release/bioc-LATEST/annaffy/raw-results/nebbiolo1

[ICO]NameLast modifiedSizeDescription

[DIR]Parent Directory  -  
[TXT]buildsrc-out.txt28-Jun-2022 00:09 869  
[   ]buildsrc-summary.dcf28-Jun-2022 00:09 417  
[TXT]checksrc-out.txt28-Jun-2022 00:09 6.8K 
[   ]checksrc-summary.dcf28-Jun-2022 00:09 430  
[TXT]install-out.txt28-Jun-2022 00:09 947  
[   ]install-summary.dcf28-Jun-2022 00:09 259