Name | Last modified | Size | Description | |
---|---|---|---|---|
Parent Directory | - | |||
checksrc-out.txt | 04-May-2024 00:39 | 7.1K | ||
buildbin-out.txt | 04-May-2024 00:39 | 1.2K | ||
install-out.txt | 04-May-2024 00:39 | 1.0K | ||
buildsrc-out.txt | 04-May-2024 00:39 | 879 | ||
buildbin-summary.dcf | 04-May-2024 00:39 | 528 | ||
checksrc-summary.dcf | 04-May-2024 00:39 | 450 | ||
buildsrc-summary.dcf | 04-May-2024 00:39 | 425 | ||
install-summary.dcf | 04-May-2024 00:39 | 269 | ||