Name | Last modified | Size | Description | |
---|---|---|---|---|
Parent Directory | - | |||
install-summary.dcf | 29-Jun-2024 06:40 | 285 | ||
install-out.txt | 29-Jun-2024 06:40 | 1.9K | ||
checksrc-summary.dcf | 29-Jun-2024 06:40 | 481 | ||
checksrc-out.txt | 29-Jun-2024 06:40 | 4.1K | ||
buildsrc-summary.dcf | 29-Jun-2024 06:40 | 486 | ||
buildsrc-out.txt | 29-Jun-2024 06:40 | 915 | ||
buildbin-summary.dcf | 29-Jun-2024 06:40 | 566 | ||
buildbin-out.txt | 29-Jun-2024 06:40 | 2.1K | ||