Index of /checkResults/release/bioc-LATEST/alabaster.matrix/raw-results/palomino3

[ICO]NameLast modifiedSizeDescription

[DIR]Parent Directory  -  
[TXT]buildbin-out.txt15-Jun-2024 03:38 2.1K 
[   ]buildbin-summary.dcf15-Jun-2024 03:38 566  
[TXT]buildsrc-out.txt15-Jun-2024 03:38 915  
[   ]buildsrc-summary.dcf15-Jun-2024 03:38 486  
[TXT]checksrc-out.txt15-Jun-2024 03:38 4.1K 
[   ]checksrc-summary.dcf15-Jun-2024 03:38 481  
[TXT]install-out.txt15-Jun-2024 03:38 1.9K 
[   ]install-summary.dcf15-Jun-2024 03:38 285