Name | Last modified | Size | Description | |
---|---|---|---|---|
Parent Directory | - | |||
buildbin-out.txt | 12-Jun-2024 03:41 | 4.5K | ||
checksrc-out.txt | 12-Jun-2024 03:41 | 3.6K | ||
install-out.txt | 12-Jun-2024 03:41 | 2.2K | ||
buildsrc-out.txt | 12-Jun-2024 03:41 | 881 | ||
buildbin-summary.dcf | 12-Jun-2024 03:41 | 579 | ||
checksrc-summary.dcf | 12-Jun-2024 03:41 | 478 | ||
buildsrc-summary.dcf | 12-Jun-2024 03:41 | 452 | ||
install-summary.dcf | 12-Jun-2024 03:41 | 286 | ||