Name | Last modified | Size | Description | |
---|---|---|---|---|
Parent Directory | - | |||
info.dcf | 17-Jul-2024 06:37 | 304 | ||
palomino7/ | 17-Jul-2024 06:39 | - | ||
palomino3/ | 29-Jun-2024 06:40 | - | ||
nebbiolo1/ | 17-Jul-2024 06:38 | - | ||
merida1/ | 17-Jul-2024 06:40 | - | ||
lconway/ | 12-Jun-2024 03:41 | - | ||
kunpeng2/ | 10-May-2024 00:40 | - | ||
kjohnson3/ | 12-Jun-2024 03:43 | - | ||
kjohnson1/ | 17-Jul-2024 06:42 | - | ||