Index of /checkResults/release/bioc-LATEST/alabaster.base/raw-results/nebbiolo1

[ICO]NameLast modifiedSizeDescription

[DIR]Parent Directory  -  
[TXT]buildsrc-out.txt20-Jul-2024 06:37 863  
[   ]buildsrc-summary.dcf20-Jul-2024 06:37 436  
[TXT]checksrc-out.txt20-Jul-2024 06:37 4.7K 
[   ]checksrc-summary.dcf20-Jul-2024 06:37 445  
[TXT]install-out.txt20-Jul-2024 06:37 5.3K 
[   ]install-summary.dcf20-Jul-2024 06:37 272