Index of /checkResults/release/bioc-LATEST/alabaster.base/raw-results/merida1

[ICO]NameLast modifiedSizeDescription

[DIR]Parent Directory  -  
[   ]install-summary.dcf17-Jul-2024 06:40 283  
[TXT]install-out.txt17-Jul-2024 06:40 5.1K 
[   ]checksrc-summary.dcf17-Jul-2024 06:40 476  
[TXT]checksrc-out.txt17-Jul-2024 06:40 4.9K 
[   ]buildsrc-summary.dcf17-Jul-2024 06:40 445  
[TXT]buildsrc-out.txt17-Jul-2024 06:40 873  
[   ]buildbin-summary.dcf17-Jul-2024 06:40 570  
[TXT]buildbin-out.txt17-Jul-2024 06:40 7.7K