Index of /checkResults/release/bioc-LATEST/alabaster.base/raw-results/kjohnson1

[ICO]NameLast modifiedSizeDescription

[DIR]Parent Directory  -  
[TXT]buildbin-out.txt17-Jul-2024 06:42 7.7K 
[   ]buildbin-summary.dcf17-Jul-2024 06:42 569  
[TXT]buildsrc-out.txt17-Jul-2024 06:42 873  
[   ]buildsrc-summary.dcf17-Jul-2024 06:42 444  
[TXT]checksrc-out.txt17-Jul-2024 06:42 4.9K 
[   ]checksrc-summary.dcf17-Jul-2024 06:42 476  
[TXT]install-out.txt17-Jul-2024 06:42 5.2K 
[   ]install-summary.dcf17-Jul-2024 06:42 282