Back to Multiple platform build/check report for BioC 3.12
[A]BCDEFGHIJKLMNOPQRSTUVWXYZ

BUILD BIN report for affyPara on merida1

This page was generated on 2021-01-19 11:56:50 -0500 (Tue, 19 Jan 2021).

TO THE DEVELOPERS/MAINTAINERS OF THE affyPara PACKAGE: Please make sure to use the following settings in order to reproduce any error or warning you see on this page.
Package 33/1974HostnameOS / ArchINSTALLBUILDCHECKBUILD BIN
affyPara 1.50.0
Markus Schmidberger
Snapshot Date: 2021-01-18 14:42:24 -0500 (Mon, 18 Jan 2021)
URL: https://git.bioconductor.org/packages/affyPara
Branch: RELEASE_3_12
Last Commit: 7c6df5a
Last Changed Date: 2020-10-27 10:33:03 -0500 (Tue, 27 Oct 2020)
malbec1 Linux (Ubuntu 18.04.5 LTS) / x86_64  OK  OK  OK UNNEEDED, same version exists in internal repository
nebbiolo1 Linux (Ubuntu 20.04.1 LTS) / x86_64  OK  OK  OK 
tokay1 Windows Server 2012 R2 Standard / x64  OK  OK  OK  OK UNNEEDED, same version exists in internal repository
merida1 macOS 10.14.6 Mojave / x86_64  OK  OK  OK [ OK ]UNNEEDED, same version exists in internal repository

Summary

Package: affyPara
Version: 1.50.0
Command: rm -rf affyPara.buildbin-libdir && mkdir affyPara.buildbin-libdir && /Users/biocbuild/BBS/utils/build-universal.sh affyPara_1.50.0.tar.gz /Library/Frameworks/R.framework/Versions/Current/Resources/bin/R affyPara.buildbin-libdir
StartedAt: 2021-01-19 07:44:25 -0500 (Tue, 19 Jan 2021)
EndedAt: 2021-01-19 07:45:28 -0500 (Tue, 19 Jan 2021)
EllapsedTime: 63.5 seconds
RetCode: 0
Status:  OK 
PackageFile: affyPara_1.50.0.tgz
PackageFileSize: 883.4 KiB

Command output

##############################################################################
##############################################################################
###
### Running command:
###
###   rm -rf affyPara.buildbin-libdir && mkdir affyPara.buildbin-libdir && /Users/biocbuild/BBS/utils/build-universal.sh affyPara_1.50.0.tar.gz /Library/Frameworks/R.framework/Versions/Current/Resources/bin/R affyPara.buildbin-libdir
###
##############################################################################
##############################################################################


>>>>>>> 
>>>>>>> INSTALLATION WITH 'R CMD INSTALL --preclean --no-multiarch --library=affyPara.buildbin-libdir affyPara_1.50.0.tar.gz'
>>>>>>> 

* installing *source* package ‘affyPara’ ...
** using staged installation
** R
** inst
** byte-compile and prepare package for lazy loading
** help
*** installing help indices
** building package indices
** installing vignettes
** testing if installed package can be loaded from temporary location
** testing if installed package can be loaded from final location
** testing if installed package keeps a record of temporary installation path
* DONE (affyPara)