Name | Last modified | Size | Description | |
---|---|---|---|---|
Parent Directory | - | |||
install-out.txt | 24-Jul-2024 22:05 | 3.4K | ||
install-summary.dcf | 24-Jul-2024 22:05 | 263 | ||
buildsrc-out.txt | 24-Jul-2024 22:05 | 945 | ||
buildsrc-summary.dcf | 24-Jul-2024 22:05 | 419 | ||
checksrc-out.txt | 24-Jul-2024 22:05 | 6.0K | ||
checksrc-summary.dcf | 24-Jul-2024 22:05 | 438 | ||
buildbin-out.txt | 24-Jul-2024 22:05 | 5.4K | ||
buildbin-summary.dcf | 24-Jul-2024 22:05 | 512 | ||