Name | Last modified | Size | Description | |
---|---|---|---|---|
Parent Directory | - | |||
buildbin-summary.dcf | 12-Jun-2024 03:41 | 511 | ||
buildbin-out.txt | 12-Jun-2024 03:41 | 5.4K | ||
checksrc-summary.dcf | 12-Jun-2024 03:41 | 438 | ||
checksrc-out.txt | 12-Jun-2024 03:41 | 5.9K | ||
buildsrc-out.txt | 12-Jun-2024 03:41 | 945 | ||
buildsrc-summary.dcf | 12-Jun-2024 03:41 | 418 | ||
install-summary.dcf | 12-Jun-2024 03:41 | 263 | ||
install-out.txt | 12-Jun-2024 03:41 | 3.4K | ||