Back to Multiple platform build/check report for BioC 3.12
[A]BCDEFGHIJKLMNOPQRSTUVWXYZ

BUILD report for adaptest on merida1

This page was generated on 2021-04-17 12:10:11 -0400 (Sat, 17 Apr 2021).

To the developers/maintainers of the adaptest package:
Please make sure to use the following settings in order to reproduce any error or warning you see on this page.
Package 18/1974HostnameOS / ArchINSTALLBUILDCHECKBUILD BIN
adaptest 1.10.0  (landing page)
Weixin Cai
Snapshot Date: 2021-04-16 14:50:12 -0400 (Fri, 16 Apr 2021)
URL: https://git.bioconductor.org/packages/adaptest
Branch: RELEASE_3_12
Last Commit: 192b4e7
Last Changed Date: 2020-10-27 11:33:43 -0400 (Tue, 27 Oct 2020)
malbec1Linux (Ubuntu 18.04.5 LTS) / x86_64  OK    OK    ERROR  
tokay1Windows Server 2012 R2 Standard / x64  OK    OK    ERROR    OK  
merida1macOS 10.14.6 Mojave / x86_64  OK    OK    ERROR    OK  

Summary

Package: adaptest
Version: 1.10.0
Command: /Library/Frameworks/R.framework/Versions/Current/Resources/bin/R CMD build --keep-empty-dirs --no-resave-data adaptest
StartedAt: 2021-04-16 18:02:05 -0400 (Fri, 16 Apr 2021)
EndedAt: 2021-04-16 18:03:38 -0400 (Fri, 16 Apr 2021)
EllapsedTime: 92.8 seconds
RetCode: 0
Status:   OK  
PackageFile: adaptest_1.10.0.tar.gz
PackageFileSize: 1.041 MiB

Command output

##############################################################################
##############################################################################
###
### Running command:
###
###   /Library/Frameworks/R.framework/Versions/Current/Resources/bin/R CMD build --keep-empty-dirs --no-resave-data adaptest
###
##############################################################################
##############################################################################


* checking for file ‘adaptest/DESCRIPTION’ ... OK
* preparing ‘adaptest’:
* checking DESCRIPTION meta-information ... OK
* installing the package to build vignettes
* creating vignettes ... OK
* checking for LF line-endings in source and make files and shell scripts
* checking for empty or unneeded directories
* building ‘adaptest_1.10.0.tar.gz’