Back to Multiple platform build/check report for BioC 3.12
[A]BCDEFGHIJKLMNOPQRSTUVWXYZ

BUILD BIN report for adaptest on merida1

This page was generated on 2021-04-17 12:10:11 -0400 (Sat, 17 Apr 2021).

To the developers/maintainers of the adaptest package:
Please make sure to use the following settings in order to reproduce any error or warning you see on this page.
Package 18/1974HostnameOS / ArchINSTALLBUILDCHECKBUILD BIN
adaptest 1.10.0  (landing page)
Weixin Cai
Snapshot Date: 2021-04-16 14:50:12 -0400 (Fri, 16 Apr 2021)
URL: https://git.bioconductor.org/packages/adaptest
Branch: RELEASE_3_12
Last Commit: 192b4e7
Last Changed Date: 2020-10-27 11:33:43 -0400 (Tue, 27 Oct 2020)
malbec1Linux (Ubuntu 18.04.5 LTS) / x86_64  OK    OK    ERROR  
tokay1Windows Server 2012 R2 Standard / x64  OK    OK    ERROR    OK  
merida1macOS 10.14.6 Mojave / x86_64  OK    OK    ERROR    OK  

Summary

Package: adaptest
Version: 1.10.0
Command: rm -rf adaptest.buildbin-libdir && mkdir adaptest.buildbin-libdir && /Users/biocbuild/BBS/utils/build-universal.sh adaptest_1.10.0.tar.gz /Library/Frameworks/R.framework/Versions/Current/Resources/bin/R adaptest.buildbin-libdir
StartedAt: 2021-04-17 06:07:09 -0400 (Sat, 17 Apr 2021)
EndedAt: 2021-04-17 06:07:59 -0400 (Sat, 17 Apr 2021)
EllapsedTime: 49.6 seconds
RetCode: 0
Status:   OK  
PackageFile: adaptest_1.10.0.tgz
PackageFileSize: 1.1 MiB

Command output

##############################################################################
##############################################################################
###
### Running command:
###
###   rm -rf adaptest.buildbin-libdir && mkdir adaptest.buildbin-libdir && /Users/biocbuild/BBS/utils/build-universal.sh adaptest_1.10.0.tar.gz /Library/Frameworks/R.framework/Versions/Current/Resources/bin/R adaptest.buildbin-libdir
###
##############################################################################
##############################################################################


>>>>>>> 
>>>>>>> INSTALLATION WITH 'R CMD INSTALL --preclean --no-multiarch --library=adaptest.buildbin-libdir adaptest_1.10.0.tar.gz'
>>>>>>> 

* installing *source* package ‘adaptest’ ...
** using staged installation
** R
** data
*** moving datasets to lazyload DB
** inst
** byte-compile and prepare package for lazy loading
** help
*** installing help indices
** building package indices
** installing vignettes
** testing if installed package can be loaded from temporary location
Warning: Package 'adaptest' is deprecated and will be removed from Bioconductor
  version 3.13
** testing if installed package can be loaded from final location
Warning: Package 'adaptest' is deprecated and will be removed from Bioconductor
  version 3.13
** testing if installed package keeps a record of temporary installation path
* DONE (adaptest)