Back to Multiple platform build/check report for BioC 3.12
[A]BCDEFGHIJKLMNOPQRSTUVWXYZ

BUILD report for a4Preproc on malbec1

This page was generated on 2021-04-17 12:06:22 -0400 (Sat, 17 Apr 2021).

To the developers/maintainers of the a4Preproc package:
Please make sure to use the following settings in order to reproduce any error or warning you see on this page.
Package 5/1974HostnameOS / ArchINSTALLBUILDCHECKBUILD BIN
a4Preproc 1.38.0  (landing page)
Laure Cougnaud
Snapshot Date: 2021-04-16 14:50:12 -0400 (Fri, 16 Apr 2021)
URL: https://git.bioconductor.org/packages/a4Preproc
Branch: RELEASE_3_12
Last Commit: c93c223
Last Changed Date: 2020-10-27 10:41:15 -0400 (Tue, 27 Oct 2020)
malbec1Linux (Ubuntu 18.04.5 LTS) / x86_64  OK    OK    OK  UNNEEDED, same version exists in internal repository
tokay1Windows Server 2012 R2 Standard / x64  OK    OK    OK    OK  UNNEEDED, same version exists in internal repository
merida1macOS 10.14.6 Mojave / x86_64  OK    OK    OK    OK  UNNEEDED, same version exists in internal repository

Summary

Package: a4Preproc
Version: 1.38.0
Command: /home/biocbuild/bbs-3.12-bioc/R/bin/R CMD build --keep-empty-dirs --no-resave-data a4Preproc
StartedAt: 2021-04-16 17:29:58 -0400 (Fri, 16 Apr 2021)
EndedAt: 2021-04-16 17:30:09 -0400 (Fri, 16 Apr 2021)
EllapsedTime: 10.8 seconds
RetCode: 0
Status:   OK  
PackageFile: a4Preproc_1.38.0.tar.gz
PackageFileSize: 275.7 KiB

Command output

##############################################################################
##############################################################################
###
### Running command:
###
###   /home/biocbuild/bbs-3.12-bioc/R/bin/R CMD build --keep-empty-dirs --no-resave-data a4Preproc
###
##############################################################################
##############################################################################


* checking for file ‘a4Preproc/DESCRIPTION’ ... OK
* preparing ‘a4Preproc’:
* checking DESCRIPTION meta-information ... OK
* installing the package to build vignettes
* creating vignettes ... OK
* checking for LF line-endings in source and make files and shell scripts
* checking for empty or unneeded directories
* building ‘a4Preproc_1.38.0.tar.gz’