Back to Multiple platform build/check report for BioC 3.12 |
|
This page was generated on 2021-01-19 11:54:41 -0500 (Tue, 19 Jan 2021).
TO THE DEVELOPERS/MAINTAINERS OF THE a4Core PACKAGE: Please make sure to use the following settings in order to reproduce any error or warning you see on this page. |
Package 4/1974 | Hostname | OS / Arch | INSTALL | BUILD | CHECK | BUILD BIN | ||||||
a4Core 1.38.0 Laure Cougnaud
| malbec1 | Linux (Ubuntu 18.04.5 LTS) / x86_64 | OK | OK | OK | ![]() | ||||||
nebbiolo1 | Linux (Ubuntu 20.04.1 LTS) / x86_64 | OK | OK | OK | ||||||||
tokay1 | Windows Server 2012 R2 Standard / x64 | OK | OK | OK | [ OK ] | ![]() | ||||||
merida1 | macOS 10.14.6 Mojave / x86_64 | OK | OK | OK | OK | ![]() |
Package: a4Core |
Version: 1.38.0 |
Command: rm -rf a4Core.buildbin-libdir && mkdir a4Core.buildbin-libdir && C:\Users\biocbuild\bbs-3.12-bioc\R\bin\R.exe CMD INSTALL --merge-multiarch --build --library=a4Core.buildbin-libdir a4Core_1.38.0.tar.gz |
StartedAt: 2021-01-19 08:44:46 -0500 (Tue, 19 Jan 2021) |
EndedAt: 2021-01-19 08:45:31 -0500 (Tue, 19 Jan 2021) |
EllapsedTime: 45.8 seconds |
RetCode: 0 |
Status: OK |
PackageFile: a4Core_1.38.0.zip |
PackageFileSize: 303.7 KiB |
############################################################################## ############################################################################## ### ### Running command: ### ### rm -rf a4Core.buildbin-libdir && mkdir a4Core.buildbin-libdir && C:\Users\biocbuild\bbs-3.12-bioc\R\bin\R.exe CMD INSTALL --merge-multiarch --build --library=a4Core.buildbin-libdir a4Core_1.38.0.tar.gz ### ############################################################################## ############################################################################## install for i386 * installing *source* package 'a4Core' ... ** using staged installation ** R ** inst ** byte-compile and prepare package for lazy loading ** help *** installing help indices converting help for package 'a4Core' finding HTML links ... done confusionMatrix html simulateData html topTable-methods html topTable html ** building package indices ** installing vignettes ** testing if installed package can be loaded from temporary location ** testing if installed package can be loaded from final location ** testing if installed package keeps a record of temporary installation path install for x64 * installing *source* package 'a4Core' ... ** testing if installed package can be loaded * MD5 sums packaged installation of 'a4Core' as a4Core_1.38.0.zip * DONE (a4Core)