Index of /checkResults/release/bioc-LATEST/a4Core/raw-results
Name
Last modified
Size
Description
Parent Directory
-
info.dcf
21-May-2024 00:34
282
palomino3/
21-May-2024 00:36
-
nebbiolo1/
21-May-2024 00:35
-
merida1/
05-Mar-2024 01:38
-
lconway/
21-May-2024 00:37
-
kunpeng2/
10-May-2024 00:40
-