Back to Multiple platform build/check report for BioC 3.12
[A]BCDEFGHIJKLMNOPQRSTUVWXYZ

INSTALL report for a4Core on merida1

This page was generated on 2021-01-25 11:55:01 -0500 (Mon, 25 Jan 2021).

TO THE DEVELOPERS/MAINTAINERS OF THE a4Core PACKAGE: Please make sure to use the following settings in order to reproduce any error or warning you see on this page.
Package 4/1974HostnameOS / ArchINSTALLBUILDCHECKBUILD BIN
a4Core 1.38.0
Laure Cougnaud
Snapshot Date: 2021-01-24 14:40:16 -0500 (Sun, 24 Jan 2021)
URL: https://git.bioconductor.org/packages/a4Core
Branch: RELEASE_3_12
Last Commit: a027dcd
Last Changed Date: 2020-10-27 10:41:20 -0500 (Tue, 27 Oct 2020)
malbec1 Linux (Ubuntu 18.04.5 LTS) / x86_64  OK  OK  OK UNNEEDED, same version exists in internal repository
nebbiolo1 Linux (Ubuntu 20.04.1 LTS) / x86_64  OK  OK  OK 
tokay1 Windows Server 2012 R2 Standard / x64  OK  OK  OK  OK UNNEEDED, same version exists in internal repository
merida1 macOS 10.14.6 Mojave / x86_64 [ OK ] OK  OK  OK UNNEEDED, same version exists in internal repository

Summary

Package: a4Core
Version: 1.38.0
Command: /Library/Frameworks/R.framework/Versions/Current/Resources/bin/R CMD INSTALL a4Core
StartedAt: 2021-01-24 16:33:16 -0500 (Sun, 24 Jan 2021)
EndedAt: 2021-01-24 16:33:48 -0500 (Sun, 24 Jan 2021)
EllapsedTime: 32.2 seconds
RetCode: 0
Status:  OK 

Command output

##############################################################################
##############################################################################
###
### Running command:
###
###   /Library/Frameworks/R.framework/Versions/Current/Resources/bin/R CMD INSTALL a4Core
###
##############################################################################
##############################################################################


* installing to library ‘/Library/Frameworks/R.framework/Versions/4.0/Resources/library’
* installing *source* package ‘a4Core’ ...
** using staged installation
** R
** inst
** byte-compile and prepare package for lazy loading
** help
*** installing help indices
** building package indices
** installing vignettes
** testing if installed package can be loaded from temporary location
** testing if installed package can be loaded from final location
** testing if installed package keeps a record of temporary installation path
* DONE (a4Core)