Index of /checkResults/release/bioc-LATEST/a4Base/raw-results
Name
Last modified
Size
Description
Parent Directory
-
info.dcf
17-May-2022 00:07
282
merida1/
17-May-2022 00:07
-
nebbiolo1/
17-May-2022 00:04
-
palomino3/
17-May-2022 00:05
-
riesling1/
19-Mar-2022 00:06
-