Back to Multiple platform build/check report for BioC 3.16
[A]BCDEFGHIJKLMNOPQRSTUVWXYZ

This page was generated on 2022-11-25 11:05:27 -0500 (Fri, 25 Nov 2022).

HostnameOSArch (*)R versionInstalled pkgs
nebbiolo2Linux (Ubuntu 20.04.5 LTS)x86_644.2.2 (2022-10-31) -- "Innocent and Trusting" 4503
palomino4Windows Server 2022 Datacenterx644.2.2 (2022-10-31 ucrt) -- "Innocent and Trusting" 4277
lconwaymacOS 12.5.1 Montereyx86_644.2.2 (2022-10-31) -- "Innocent and Trusting" 4309
Click on any hostname to see more info about the system (e.g. compilers)      (*) as reported by 'uname -p', except on Windows and Mac OS X

BUILD results for a4Base on nebbiolo2


To the developers/maintainers of the a4Base package:
- Please allow up to 24 hours (and sometimes 48 hours) for your latest push to git@git.bioconductor.org:packages/a4Base.git to
reflect on this report. See How and When does the builder pull? When will my changes propagate? for more information.
- Make sure to use the following settings in order to reproduce any error or warning you see on this page.

raw results

Package 2/2183HostnameOS / ArchINSTALLBUILDCHECKBUILD BIN
a4Base 1.46.0  (landing page)
Laure Cougnaud
Snapshot Date: 2022-11-24 14:00:02 -0500 (Thu, 24 Nov 2022)
git_url: https://git.bioconductor.org/packages/a4Base
git_branch: RELEASE_3_16
git_last_commit: be70ae7
git_last_commit_date: 2022-11-01 11:05:49 -0500 (Tue, 01 Nov 2022)
nebbiolo2Linux (Ubuntu 20.04.5 LTS) / x86_64  OK    OK    OK  UNNEEDED, same version is already published
palomino4Windows Server 2022 Datacenter / x64  OK    OK    OK    OK  UNNEEDED, same version is already published
lconwaymacOS 12.5.1 Monterey / x86_64  OK    OK    OK    OK  UNNEEDED, same version is already published

Summary

Package: a4Base
Version: 1.46.0
Command: /home/biocbuild/bbs-3.16-bioc/R/bin/R CMD build --keep-empty-dirs --no-resave-data a4Base
StartedAt: 2022-11-24 15:50:42 -0500 (Thu, 24 Nov 2022)
EndedAt: 2022-11-24 15:50:44 -0500 (Thu, 24 Nov 2022)
EllapsedTime: 1.1 seconds
RetCode: 0
Status:   OK  
PackageFile: a4Base_1.46.0.tar.gz
PackageFileSize: 366.5 KiB

Command output

##############################################################################
##############################################################################
###
### Running command:
###
###   /home/biocbuild/bbs-3.16-bioc/R/bin/R CMD build --keep-empty-dirs --no-resave-data a4Base
###
##############################################################################
##############################################################################


* checking for file ‘a4Base/DESCRIPTION’ ... OK
* preparing ‘a4Base’:
* checking DESCRIPTION meta-information ... OK
* checking for LF line-endings in source and make files and shell scripts
* checking for empty or unneeded directories
* looking to see if a ‘data/datalist’ file should be added
* building ‘a4Base_1.46.0.tar.gz’