Name | Last modified | Size | Description | |
---|---|---|---|---|
Parent Directory | - | |||
buildbin-out.txt | 27-Jul-2024 06:38 | 1.1K | ||
buildbin-summary.dcf | 27-Jul-2024 06:38 | 484 | ||
buildsrc-out.txt | 27-Jul-2024 06:38 | 814 | ||
buildsrc-summary.dcf | 27-Jul-2024 06:38 | 432 | ||
checksrc-out.txt | 27-Jul-2024 06:38 | 3.1K | ||
checksrc-summary.dcf | 27-Jul-2024 06:38 | 426 | ||
install-out.txt | 27-Jul-2024 06:38 | 1.0K | ||
install-summary.dcf | 27-Jul-2024 06:38 | 258 | ||