Name | Last modified | Size | Description | |
---|---|---|---|---|
Parent Directory | - | |||
buildbin-out.txt | 27-Jul-2024 06:41 | 1.1K | ||
buildbin-summary.dcf | 27-Jul-2024 06:41 | 500 | ||
buildsrc-out.txt | 27-Jul-2024 06:41 | 796 | ||
buildsrc-summary.dcf | 27-Jul-2024 06:41 | 413 | ||
checksrc-out.txt | 27-Jul-2024 06:41 | 3.2K | ||
checksrc-summary.dcf | 27-Jul-2024 06:41 | 423 | ||
install-out.txt | 27-Jul-2024 06:41 | 1.0K | ||
install-summary.dcf | 27-Jul-2024 06:41 | 259 | ||