Back to Multiple platform build/check report for BioC 3.14
ABCDEFGHIJKLMNOPQRSTUVWX[Y]Z

This page was generated on 2022-01-26 13:07:35 -0500 (Wed, 26 Jan 2022).

HostnameOSArch (*)R versionInstalled pkgs
nebbiolo2Linux (Ubuntu 20.04.4 LTS)x86_644.1.2 (2021-11-01) -- "Bird Hippie" 4329
tokay2Windows Server 2012 R2 Standardx644.1.2 (2021-11-01) -- "Bird Hippie" 4080
machv2macOS 10.14.6 Mojavex86_644.1.2 (2021-11-01) -- "Bird Hippie" 4141
Click on any hostname to see more info about the system (e.g. compilers)      (*) as reported by 'uname -p', except on Windows and Mac OS X

INSTALL results for YAPSA on tokay2


To the developers/maintainers of the YAPSA package:
- Please allow up to 24 hours (and sometimes 48 hours) for your latest push to git@git.bioconductor.org:packages/YAPSA.git to
reflect on this report. See How and When does the builder pull? When will my changes propagate? here for more information.
- Make sure to use the following settings in order to reproduce any error or warning you see on this page.

raw results

Package 2078/2083HostnameOS / ArchINSTALLBUILDCHECKBUILD BIN
YAPSA 1.20.1  (landing page)
Daniel Huebschmann
Snapshot Date: 2022-01-25 01:55:07 -0500 (Tue, 25 Jan 2022)
git_url: https://git.bioconductor.org/packages/YAPSA
git_branch: RELEASE_3_14
git_last_commit: 6c3f437
git_last_commit_date: 2021-11-29 09:31:15 -0500 (Mon, 29 Nov 2021)
nebbiolo2Linux (Ubuntu 20.04.4 LTS) / x86_64  OK    OK    OK  UNNEEDED, same version is already published
tokay2Windows Server 2012 R2 Standard / x64  OK    OK    OK    OK  UNNEEDED, same version is already published
machv2macOS 10.14.6 Mojave / x86_64  OK    OK    OK    OK  UNNEEDED, same version is already published

Summary

Package: YAPSA
Version: 1.20.1
Command: C:\cygwin\bin\curl.exe -O http://155.52.207.166/BBS/3.14/bioc/src/contrib/YAPSA_1.20.1.tar.gz && rm -rf YAPSA.buildbin-libdir && mkdir YAPSA.buildbin-libdir && C:\Users\biocbuild\bbs-3.14-bioc\R\bin\R.exe CMD INSTALL --merge-multiarch --build --library=YAPSA.buildbin-libdir YAPSA_1.20.1.tar.gz && C:\Users\biocbuild\bbs-3.14-bioc\R\bin\R.exe CMD INSTALL YAPSA_1.20.1.zip && rm YAPSA_1.20.1.tar.gz YAPSA_1.20.1.zip
StartedAt: 2022-01-25 07:22:02 -0500 (Tue, 25 Jan 2022)
EndedAt: 2022-01-25 07:25:48 -0500 (Tue, 25 Jan 2022)
EllapsedTime: 225.8 seconds
RetCode: 0
Status:   OK  

Command output

##############################################################################
##############################################################################
###
### Running command:
###
###   C:\cygwin\bin\curl.exe -O http://155.52.207.166/BBS/3.14/bioc/src/contrib/YAPSA_1.20.1.tar.gz && rm -rf YAPSA.buildbin-libdir && mkdir YAPSA.buildbin-libdir && C:\Users\biocbuild\bbs-3.14-bioc\R\bin\R.exe CMD INSTALL --merge-multiarch --build --library=YAPSA.buildbin-libdir YAPSA_1.20.1.tar.gz && C:\Users\biocbuild\bbs-3.14-bioc\R\bin\R.exe CMD INSTALL YAPSA_1.20.1.zip && rm YAPSA_1.20.1.tar.gz YAPSA_1.20.1.zip
###
##############################################################################
##############################################################################


  % Total    % Received % Xferd  Average Speed   Time    Time     Time  Current
                                 Dload  Upload   Total   Spent    Left  Speed

  0     0    0     0    0     0      0      0 --:--:-- --:--:-- --:--:--     0
 12 1293k   12  166k    0     0   491k      0  0:00:02 --:--:--  0:00:02  491k
100 1293k  100 1293k    0     0  2172k      0 --:--:-- --:--:-- --:--:-- 2174k

install for i386

* installing *source* package 'YAPSA' ...
** using staged installation
** R
** data
** inst
** byte-compile and prepare package for lazy loading
Found more than one class "atomicVector" in cache; using the first, from namespace 'Matrix'
Also defined by 'Rmpfr'
Found more than one class "atomicVector" in cache; using the first, from namespace 'Matrix'
Also defined by 'Rmpfr'
Found more than one class "atomicVector" in cache; using the first, from namespace 'Matrix'
Also defined by 'Rmpfr'
Found more than one class "atomicVector" in cache; using the first, from namespace 'Matrix'
Also defined by 'Rmpfr'
Found more than one class "atomicVector" in cache; using the first, from namespace 'Matrix'
Also defined by 'Rmpfr'
Found more than one class "atomicVector" in cache; using the first, from namespace 'Matrix'
Also defined by 'Rmpfr'
Found more than one class "atomicVector" in cache; using the first, from namespace 'Matrix'
Also defined by 'Rmpfr'
Found more than one class "atomicVector" in cache; using the first, from namespace 'Matrix'
Also defined by 'Rmpfr'
Found more than one class "atomicVector" in cache; using the first, from namespace 'Matrix'
Also defined by 'Rmpfr'
Found more than one class "atomicVector" in cache; using the first, from namespace 'Matrix'
Also defined by 'Rmpfr'
Found more than one class "atomicVector" in cache; using the first, from namespace 'Matrix'
Also defined by 'Rmpfr'
Found more than one class "atomicVector" in cache; using the first, from namespace 'Matrix'
Also defined by 'Rmpfr'
** help
*** installing help indices
  converting help for package 'YAPSA'
    finding HTML links ... done
    GenomeOfNl_raw                          html  
    LCD                                     html  
    LCD_SMC                                 html  
    LCD_complex_cutoff                      html  
    MutCat_indel_df                         html  
    SMC                                     html  
    SMC_perPID                              html  
    YAPSA                                   html  
    add_annotation                          html  
    add_as_fist_to_list                     html  
    aggregate_exposures_by_category         html  
    annotate_intermut_dist_PID              html  
    annotate_intermut_dist_cohort           html  
    annotation_exposures_barplot            html  
    annotation_exposures_list_barplot       html  
    annotation_heatmap_exposures            html  
    attribute_nucleotide_exchanges          html  
    attribute_sequence_contex_indel         html  
    attribution_of_indels                   html  
    build_gene_list_for_pathway             html  
    classify_indels                         html  
    compare_SMCs                            html  
    compare_exposures                       html  
    compare_expousre_sets                   html  
    compare_sets                            html  
    compare_to_catalogues                   html  
    complex_heatmap_exposures               html  
    computeLogLik                           html  
    compute_comparison_stat_df              html  
    confIntExp                              html  
    confidence_indel_calulation             html  
    confidence_indel_only_calulation        html  
    correct_rounded                         html  
    cosineDist                              html  
    cosineMatchDist                         html  
    create_indel_mut_cat_from_df            html  
    create_indel_mutation_catalogue_from_df
                                            html  
    create_mutation_catalogue_from_VR       html  
    create_mutation_catalogue_from_df       html  
    finding level-2 HTML links ... done

    cut_breaks_as_intervals                 html  
    cutoffs                                 html  
    cutoffs_pcawg                           html  
    deriveSigInd_df                         html  
    disambiguateVector                      html  
    enrichSigs                              html  
    exampleINDEL_YAPSA                      html  
    exampleYAPSA                            html  
    exchange_colour_vector                  html  
    exome_mutCatRaw_df                      html  
    exposures_barplot                       html  
    extract_names_from_gene_list            html  
    find_affected_PIDs                      html  
    getSequenceContext                      html  
    get_extreme_PIDs                        html  
    hclust_exposures                        html  
    logLikelihood                           html  
    lymphomaNature2013_mutCat_df            html  
    makeVRangesFromDataFrame                html  
    make_catalogue_strata_df                html  
    make_comparison_matrix                  html  
    make_strata_df                          html  
    make_subgroups_df                       html  
    melt_exposures                          html  
    merge_exposures                         html  
    normalizeMotifs_otherRownames           html  
    normalize_df_per_dim                    html  
    plotExchangeSpectra                     html  
    plotExchangeSpectra_indel               html  
    plotExposuresConfidence                 html  
    plotExposuresConfidence_indel           html  
    plot_SMC                                html  
    plot_exposures                          html  
    plot_strata                             html  
    read_entry                              html  
    relateSigs                              html  
    repeat_df                               html  
    round_precision                         html  
    run_SMC                                 html  
    run_annotate_vcf_pl                     html  
    run_comparison_catalogues               html  
    run_comparison_general                  html  
    run_kmer_frequency_correction           html  
    run_kmer_frequency_normalization        html  
    run_plot_strata_general                 html  
    shapiro_if_possible                     html  
    sigs                                    html  
    sigs_pcawg                              html  
    split_exposures_by_subgroups            html  
    stat_plot_subgroups                     html  
    stat_test_SMC                           html  
    stat_test_subgroups                     html  
    stderrmean                              html  
    sum_over_list_of_df                     html  
    targetCapture_cor_factors               html  
    temp_trellis_rainfall_plot              html  
    testSigs                                html  
    test_exposureAffected                   html  
    test_gene_list_in_exposures             html  
    transform_rownames_R_to_MATLAB          html  
    translate_to_hg19                       html  
    trellis_rainfall_plot                   html  
    trellis_rainfall_plot_old               html  
    variateExp                              html  
    variateExpSingle                        html  
** building package indices
** installing vignettes
** testing if installed package can be loaded from temporary location
Found more than one class "atomicVector" in cache; using the first, from namespace 'Matrix'
Also defined by 'Rmpfr'
Found more than one class "atomicVector" in cache; using the first, from namespace 'Matrix'
Also defined by 'Rmpfr'
Found more than one class "atomicVector" in cache; using the first, from namespace 'Matrix'
Also defined by 'Rmpfr'
Found more than one class "atomicVector" in cache; using the first, from namespace 'Matrix'
Also defined by 'Rmpfr'
Found more than one class "atomicVector" in cache; using the first, from namespace 'Matrix'
Also defined by 'Rmpfr'
Found more than one class "atomicVector" in cache; using the first, from namespace 'Matrix'
Also defined by 'Rmpfr'
Found more than one class "atomicVector" in cache; using the first, from namespace 'Matrix'
Also defined by 'Rmpfr'
Found more than one class "atomicVector" in cache; using the first, from namespace 'Matrix'
Also defined by 'Rmpfr'
Found more than one class "atomicVector" in cache; using the first, from namespace 'Matrix'
Also defined by 'Rmpfr'
Found more than one class "atomicVector" in cache; using the first, from namespace 'Matrix'
Also defined by 'Rmpfr'
Found more than one class "atomicVector" in cache; using the first, from namespace 'Matrix'
Also defined by 'Rmpfr'
Found more than one class "atomicVector" in cache; using the first, from namespace 'Matrix'
Also defined by 'Rmpfr'
** testing if installed package can be loaded from final location
Found more than one class "atomicVector" in cache; using the first, from namespace 'Matrix'
Also defined by 'Rmpfr'
Found more than one class "atomicVector" in cache; using the first, from namespace 'Matrix'
Also defined by 'Rmpfr'
Found more than one class "atomicVector" in cache; using the first, from namespace 'Matrix'
Also defined by 'Rmpfr'
Found more than one class "atomicVector" in cache; using the first, from namespace 'Matrix'
Also defined by 'Rmpfr'
Found more than one class "atomicVector" in cache; using the first, from namespace 'Matrix'
Also defined by 'Rmpfr'
Found more than one class "atomicVector" in cache; using the first, from namespace 'Matrix'
Also defined by 'Rmpfr'
Found more than one class "atomicVector" in cache; using the first, from namespace 'Matrix'
Also defined by 'Rmpfr'
Found more than one class "atomicVector" in cache; using the first, from namespace 'Matrix'
Also defined by 'Rmpfr'
Found more than one class "atomicVector" in cache; using the first, from namespace 'Matrix'
Also defined by 'Rmpfr'
Found more than one class "atomicVector" in cache; using the first, from namespace 'Matrix'
Also defined by 'Rmpfr'
Found more than one class "atomicVector" in cache; using the first, from namespace 'Matrix'
Also defined by 'Rmpfr'
Found more than one class "atomicVector" in cache; using the first, from namespace 'Matrix'
Also defined by 'Rmpfr'
** testing if installed package keeps a record of temporary installation path

install for x64

* installing *source* package 'YAPSA' ...
** testing if installed package can be loaded
Found more than one class "atomicVector" in cache; using the first, from namespace 'Matrix'
Also defined by 'Rmpfr'
Found more than one class "atomicVector" in cache; using the first, from namespace 'Matrix'
Also defined by 'Rmpfr'
Found more than one class "atomicVector" in cache; using the first, from namespace 'Matrix'
Also defined by 'Rmpfr'
Found more than one class "atomicVector" in cache; using the first, from namespace 'Matrix'
Also defined by 'Rmpfr'
Found more than one class "atomicVector" in cache; using the first, from namespace 'Matrix'
Also defined by 'Rmpfr'
Found more than one class "atomicVector" in cache; using the first, from namespace 'Matrix'
Also defined by 'Rmpfr'
Found more than one class "atomicVector" in cache; using the first, from namespace 'Matrix'
Also defined by 'Rmpfr'
Found more than one class "atomicVector" in cache; using the first, from namespace 'Matrix'
Also defined by 'Rmpfr'
Found more than one class "atomicVector" in cache; using the first, from namespace 'Matrix'
Also defined by 'Rmpfr'
Found more than one class "atomicVector" in cache; using the first, from namespace 'Matrix'
Also defined by 'Rmpfr'
Found more than one class "atomicVector" in cache; using the first, from namespace 'Matrix'
Also defined by 'Rmpfr'
Found more than one class "atomicVector" in cache; using the first, from namespace 'Matrix'
Also defined by 'Rmpfr'
* MD5 sums
packaged installation of 'YAPSA' as YAPSA_1.20.1.zip
* DONE (YAPSA)
* installing to library 'C:/Users/biocbuild/bbs-3.14-bioc/R/library'
package 'YAPSA' successfully unpacked and MD5 sums checked