Index of /checkResults/release/bioc-LATEST/YAPSA/raw-results/riesling1

[ICO]NameLast modifiedSizeDescription

[DIR]Parent Directory  -  
[TXT]buildbin-out.txt19-Mar-2022 00:08 11K 
[   ]buildbin-summary.dcf19-Mar-2022 00:08 503  
[TXT]buildsrc-out.txt19-Mar-2022 00:08 889  
[   ]buildsrc-summary.dcf19-Mar-2022 00:08 445  
[TXT]checksrc-out.txt19-Mar-2022 00:08 4.2K 
[   ]checksrc-summary.dcf19-Mar-2022 00:08 445  
[TXT]install-out.txt19-Mar-2022 00:08 11K 
[   ]install-summary.dcf19-Mar-2022 00:08 264