Index of /checkResults/release/bioc-LATEST/YAPSA/raw-results/palomino3

[ICO]NameLast modifiedSizeDescription

[DIR]Parent Directory  -  
[TXT]buildbin-out.txt02-Jul-2022 01:07 5.5K 
[   ]buildbin-summary.dcf02-Jul-2022 01:07 503  
[TXT]buildsrc-out.txt02-Jul-2022 01:07 889  
[   ]buildsrc-summary.dcf02-Jul-2022 01:07 445  
[TXT]checksrc-out.txt02-Jul-2022 01:07 4.1K 
[   ]checksrc-summary.dcf02-Jul-2022 01:07 445  
[TXT]install-out.txt02-Jul-2022 01:07 5.4K 
[   ]install-summary.dcf02-Jul-2022 01:07 264