Index of /checkResults/release/bioc-LATEST/YAPSA/raw-results/nebbiolo1

[ICO]NameLast modifiedSizeDescription

[DIR]Parent Directory  -  
[TXT]buildsrc-out.txt02-Jul-2022 01:06 861  
[   ]buildsrc-summary.dcf02-Jul-2022 01:06 412  
[TXT]checksrc-out.txt02-Jul-2022 01:06 4.2K 
[   ]checksrc-summary.dcf02-Jul-2022 01:06 422  
[TXT]install-out.txt02-Jul-2022 01:06 5.5K 
[   ]install-summary.dcf02-Jul-2022 01:06 255