Index of /checkResults/release/bioc-LATEST/YAPSA/raw-results/merida1

[ICO]NameLast modifiedSizeDescription

[DIR]Parent Directory  -  
[TXT]buildbin-out.txt02-Jul-2022 01:08 5.7K 
[   ]buildbin-summary.dcf02-Jul-2022 01:08 517  
[TXT]buildsrc-out.txt02-Jul-2022 01:08 871  
[   ]buildsrc-summary.dcf02-Jul-2022 01:08 422  
[TXT]checksrc-out.txt02-Jul-2022 01:08 4.3K 
[   ]checksrc-summary.dcf02-Jul-2022 01:08 442  
[TXT]install-out.txt02-Jul-2022 01:08 5.5K 
[   ]install-summary.dcf02-Jul-2022 01:08 266