Name | Last modified | Size | Description | |
---|---|---|---|---|
Parent Directory | - | |||
install-summary.dcf | 24-Jul-2024 22:06 | 274 | ||
buildsrc-summary.dcf | 24-Jul-2024 22:06 | 434 | ||
checksrc-summary.dcf | 24-Jul-2024 22:06 | 458 | ||
buildbin-summary.dcf | 24-Jul-2024 22:06 | 543 | ||
buildsrc-out.txt | 24-Jul-2024 22:06 | 854 | ||
checksrc-out.txt | 24-Jul-2024 22:06 | 5.5K | ||
install-out.txt | 24-Jul-2024 22:06 | 57K | ||
buildbin-out.txt | 24-Jul-2024 22:06 | 59K | ||