Name | Last modified | Size | Description | |
---|---|---|---|---|
Parent Directory | - | |||
install-out.txt | 10-May-2024 00:41 | 70K | ||
checksrc-out.txt | 09-May-2024 00:41 | 4.8K | ||
buildsrc-out.txt | 10-May-2024 00:41 | 855 | ||
checksrc-summary.dcf | 09-May-2024 00:41 | 465 | ||
buildsrc-summary.dcf | 10-May-2024 00:41 | 435 | ||
install-summary.dcf | 10-May-2024 00:41 | 275 | ||