Index of /checkResults/release/bioc-LATEST/VennDetail/raw-results/lconway

[ICO]NameLast modifiedSizeDescription

[DIR]Parent Directory  -  
[TXT]buildbin-out.txt29-May-2024 00:36 1.2K 
[   ]buildbin-summary.dcf29-May-2024 00:36 548  
[TXT]buildsrc-out.txt29-May-2024 00:36 828  
[   ]buildsrc-summary.dcf29-May-2024 00:36 436  
[TXT]checksrc-out.txt29-May-2024 00:36 3.3K 
[   ]checksrc-summary.dcf29-May-2024 00:36 455  
[TXT]install-out.txt29-May-2024 00:36 1.0K 
[   ]install-summary.dcf29-May-2024 00:36 275