Name | Last modified | Size | Description | |
---|---|---|---|---|
Parent Directory | - | |||
install-summary.dcf | 27-Jul-2024 06:40 | 287 | ||
install-out.txt | 27-Jul-2024 06:40 | 2.7K | ||
checksrc-summary.dcf | 27-Jul-2024 06:40 | 483 | ||
checksrc-out.txt | 27-Jul-2024 06:40 | 4.6K | ||
buildsrc-summary.dcf | 27-Jul-2024 06:40 | 489 | ||
buildsrc-out.txt | 27-Jul-2024 06:40 | 916 | ||
buildbin-summary.dcf | 27-Jul-2024 06:40 | 569 | ||
buildbin-out.txt | 27-Jul-2024 06:40 | 2.9K | ||