Name | Last modified | Size | Description | |
---|---|---|---|---|
Parent Directory | - | |||
buildbin-out.txt | 29-Jun-2024 06:42 | 2.9K | ||
buildbin-summary.dcf | 29-Jun-2024 06:42 | 569 | ||
buildsrc-out.txt | 29-Jun-2024 06:42 | 916 | ||
buildsrc-summary.dcf | 29-Jun-2024 06:42 | 489 | ||
checksrc-out.txt | 29-Jun-2024 06:42 | 4.6K | ||
checksrc-summary.dcf | 29-Jun-2024 06:42 | 483 | ||
install-out.txt | 29-Jun-2024 06:42 | 2.7K | ||
install-summary.dcf | 29-Jun-2024 06:42 | 286 | ||