Name | Last modified | Size | Description | |
---|---|---|---|---|
Parent Directory | - | |||
install-out.txt | 24-Jul-2024 22:04 | 2.6K | ||
install-summary.dcf | 24-Jul-2024 22:04 | 277 | ||
buildsrc-out.txt | 24-Jul-2024 22:04 | 872 | ||
buildsrc-summary.dcf | 24-Jul-2024 22:04 | 445 | ||
checksrc-out.txt | 24-Jul-2024 22:04 | 3.9K | ||
checksrc-summary.dcf | 24-Jul-2024 22:04 | 450 | ||