Name | Last modified | Size | Description | |
---|---|---|---|---|
Parent Directory | - | |||
buildbin-out.txt | 24-Jul-2024 22:06 | 5.4K | ||
buildbin-summary.dcf | 24-Jul-2024 22:06 | 585 | ||
buildsrc-out.txt | 24-Jul-2024 22:06 | 882 | ||
buildsrc-summary.dcf | 24-Jul-2024 22:06 | 455 | ||
checksrc-out.txt | 24-Jul-2024 22:06 | 4.3K | ||
checksrc-summary.dcf | 24-Jul-2024 22:06 | 481 | ||
install-out.txt | 24-Jul-2024 22:06 | 3.3K | ||
install-summary.dcf | 24-Jul-2024 22:06 | 288 | ||