Index of /checkResults/release/bioc-LATEST/VariantExperiment/raw-results/palomino7
Name
Last modified
Size
Description
Parent Directory
-
install-summary.dcf
27-Jul-2024 06:40
288
install-out.txt
27-Jul-2024 06:40
1.0K
buildsrc-summary.dcf
27-Jul-2024 06:40
398
buildsrc-out.txt
27-Jul-2024 06:40
1.2K