Index of /checkResults/release/bioc-LATEST/VariantExperiment/raw-results/lconway
Name
Last modified
Size
Description
Parent Directory
-
install-summary.dcf
12-Jun-2024 03:43
289
install-out.txt
12-Jun-2024 03:43
1.0K
buildsrc-summary.dcf
12-Jun-2024 03:43
363
buildsrc-out.txt
12-Jun-2024 03:43
1.1K